BEGIN:VCALENDAR
VERSION:2.0
PRODID:-//Triatlón con Ciencia - ECPv6.15.10//NONSGML v1.0//EN
CALSCALE:GREGORIAN
METHOD:PUBLISH
X-ORIGINAL-URL:https://triatlonconciencia.com
X-WR-CALDESC:Eventos para Triatlón con Ciencia
REFRESH-INTERVAL;VALUE=DURATION:PT1H
X-Robots-Tag:noindex
X-PUBLISHED-TTL:PT1H
BEGIN:VTIMEZONE
TZID:America/New_York
BEGIN:DAYLIGHT
TZOFFSETFROM:-0500
TZOFFSETTO:-0400
TZNAME:EDT
DTSTART:20200308T070000
END:DAYLIGHT
BEGIN:STANDARD
TZOFFSETFROM:-0400
TZOFFSETTO:-0500
TZNAME:EST
DTSTART:20201101T060000
END:STANDARD
BEGIN:DAYLIGHT
TZOFFSETFROM:-0500
TZOFFSETTO:-0400
TZNAME:EDT
DTSTART:20210314T070000
END:DAYLIGHT
BEGIN:STANDARD
TZOFFSETFROM:-0400
TZOFFSETTO:-0500
TZNAME:EST
DTSTART:20211107T060000
END:STANDARD
BEGIN:DAYLIGHT
TZOFFSETFROM:-0500
TZOFFSETTO:-0400
TZNAME:EDT
DTSTART:20220313T070000
END:DAYLIGHT
BEGIN:STANDARD
TZOFFSETFROM:-0400
TZOFFSETTO:-0500
TZNAME:EST
DTSTART:20221106T060000
END:STANDARD
BEGIN:DAYLIGHT
TZOFFSETFROM:-0500
TZOFFSETTO:-0400
TZNAME:EDT
DTSTART:20230312T070000
END:DAYLIGHT
BEGIN:STANDARD
TZOFFSETFROM:-0400
TZOFFSETTO:-0500
TZNAME:EST
DTSTART:20231105T060000
END:STANDARD
END:VTIMEZONE
BEGIN:VEVENT
DTSTART;TZID=America/New_York:20220206T060000
DTEND;TZID=America/New_York:20220206T100000
DTSTAMP:20260424T010204
CREATED:20210911T122439Z
LAST-MODIFIED:20210911T122942Z
UID:4214-1644127200-1644141600@triatlonconciencia.com
SUMMARY:Maratón y Media Maratón Miami
DESCRIPTION:Una de las carreras de atletismo de calle más latinas del mundo\, una carrera para repetir y repetir
URL:https://triatlonconciencia.com/calendario/maraton-y-media-maraton-miami/
ATTACH;FMTTYPE=image/jpeg:https://triatlonconciencia.com/wp-content/uploads/2021/09/EVIW-MM_DigitalAds_RegNowOpen_1200x6282.jpg
END:VEVENT
BEGIN:VEVENT
DTSTART;TZID=America/New_York:20211212T060000
DTEND;TZID=America/New_York:20211212T140000
DTSTAMP:20260424T010204
CREATED:20210910T171832Z
LAST-MODIFIED:20210927T143437Z
UID:4136-1639288800-1639317600@triatlonconciencia.com
SUMMARY:Ironman Cartagena 70\,3
DESCRIPTION:Triatlón de larga distancia más importante de Colombia
URL:https://triatlonconciencia.com/calendario/ironman-cartagena-703/
LOCATION:Cartagena\, Colombia\, Cartagena\, Colombia
CATEGORIES:Triatlón larga distancia
ATTACH;FMTTYPE=image/png:https://triatlonconciencia.com/wp-content/uploads/2021/09/logo_1_large.png
END:VEVENT
BEGIN:VEVENT
DTSTART;TZID=America/New_York:20211107T080000
DTEND;TZID=America/New_York:20211107T170000
DTSTAMP:20260424T010204
CREATED:20210917T132320Z
LAST-MODIFIED:20210917T132320Z
UID:4293-1636272000-1636304400@triatlonconciencia.com
SUMMARY:Maratón Nueva York
DESCRIPTION:Una de las Carreras de maratón más importantes del mundo
URL:https://triatlonconciencia.com/calendario/maraton-nueva-york/
LOCATION:New York\, USA\, United States
END:VEVENT
BEGIN:VEVENT
DTSTART;TZID=America/New_York:20211107T060000
DTEND;TZID=America/New_York:20211107T120000
DTSTAMP:20260424T010204
CREATED:20210927T142449Z
LAST-MODIFIED:20210927T142449Z
UID:4333-1636264800-1636286400@triatlonconciencia.com
SUMMARY:Media Maratón Rionegro
DESCRIPTION:
URL:https://triatlonconciencia.com/calendario/media-maraton-rionegro/
LOCATION:Rionegro\, Antioquia\, Colombia
CATEGORIES:Atletismo
ATTACH;FMTTYPE=image/jpeg:https://triatlonconciencia.com/wp-content/uploads/2021/09/WhatsApp-Image-2021-09-27-at-9.17.26-AM.jpeg
END:VEVENT
BEGIN:VEVENT
DTSTART;TZID=America/New_York:20211107T060000
DTEND;TZID=America/New_York:20211107T120000
DTSTAMP:20260424T010204
CREATED:20210917T132047Z
LAST-MODIFIED:20210917T132047Z
UID:4290-1636264800-1636286400@triatlonconciencia.com
SUMMARY:Maratón de Barcelona
DESCRIPTION:Una de las carreras más importantes de España
URL:https://triatlonconciencia.com/calendario/maraton-de-barcelona/
LOCATION:Barcelona\, España
END:VEVENT
BEGIN:VEVENT
DTSTART;TZID=America/New_York:20211017T060000
DTEND;TZID=America/New_York:20211017T120000
DTSTAMP:20260424T010204
CREATED:20210915T131750Z
LAST-MODIFIED:20210915T132118Z
UID:4263-1634450400-1634472000@triatlonconciencia.com
SUMMARY:Gran Triatlón La Ceja
DESCRIPTION:Evento de Triatlón de distancias cortas\, en el municipio de la Ceja Antioquia\, organizado por Club Deportivo Intletic \nLink para Afiliados a la Liga Antioqueña de Triatlón https://www.eventrid.com.co/eventos/intl3tic/trilaceja-para-afiliados \nLink para no afiliados a la Liga Antioqueña de Triatlón https://www.eventrid.com.co/eventos/intl3tic/triatlon-la-ceja-2021-para-no-afiliados-y-otros \n 
URL:https://triatlonconciencia.com/calendario/gran-triatlon-la-ceja/
LOCATION:La Ceja\, Antioquia\, Colombia\, Colombia
CATEGORIES:Triatlón
END:VEVENT
BEGIN:VEVENT
DTSTART;VALUE=DATE:20211001
DTEND;VALUE=DATE:20211004
DTSTAMP:20260424T010204
CREATED:20210911T135043Z
LAST-MODIFIED:20210911T135043Z
UID:4220-1633046400-1633305599@triatlonconciencia.com
SUMMARY:Triatlón Calima / Copa Colombia
DESCRIPTION:Evento de Triatlón pertenciente a la Copa Colombia\, realizado en Calima\, Valle. TRIATLÓN SPRINT JUNIOR A\, SUB 23 Y ELITE \nTRIATLÓN SUPER SPRINT\, MENORES\, JUNIOR A\, JUNIOR B\, SUB 23 Y ELITE \nTRIATLÓN 36.4 K Y 70 K GRUPOS POR EDAD \nFESTIVAL NACIONAL DE ACUATLON INFANTIL\, MENORES Y PROMOCIONAL \nVALLE ORO PURO – VALLE INVENCIBLE
URL:https://triatlonconciencia.com/calendario/triatlon-calima-copa-colombia/
LOCATION:Calima\, Valle\, Colombia\, Calima\, Valle\, Colombia
ATTACH;FMTTYPE=image/png:https://triatlonconciencia.com/wp-content/uploads/2021/09/Captura-de-Pantalla-2021-09-11-a-las-8.49.49-a.-m..png
END:VEVENT
BEGIN:VEVENT
DTSTART;TZID=America/New_York:20210926T060000
DTEND;TZID=America/New_York:20210926T120000
DTSTAMP:20260424T010204
CREATED:20210911T101803Z
LAST-MODIFIED:20210911T102121Z
UID:4210-1632636000-1632657600@triatlonconciencia.com
SUMMARY:TriBaqSeries
DESCRIPTION:Evento de triatlón realizado en la ciudad de barranquilla en la modalidad sprint. Natación en Complejo acuático.\nNatación 750 mts\nCiclismo 20km\nAtletismo 5 km
URL:https://triatlonconciencia.com/calendario/tribaqseries/
LOCATION:Barranquila\, Atlántico\, Colombia\, Colombia\, Colombia
CATEGORIES:Triatlón
END:VEVENT
BEGIN:VEVENT
DTSTART;TZID=America/New_York:20210926T060000
DTEND;TZID=America/New_York:20210926T120000
DTSTAMP:20260424T010204
CREATED:20210910T172731Z
LAST-MODIFIED:20210910T172731Z
UID:4144-1632636000-1632657600@triatlonconciencia.com
SUMMARY:El Peñol Antioquia
DESCRIPTION:Evento de la Liga Antioquieña Triatlón\, con distancias Super Sprint\, Sprint Expertos y relevos. \nAbierto para independientes y pertenecientes a clubes \n 
URL:https://triatlonconciencia.com/calendario/el-penol-antioquia/
LOCATION:El Peñol\, Antioquia\, El Peñol\, Colombia
CATEGORIES:Triatlón
ATTACH;FMTTYPE=image/jpeg:https://triatlonconciencia.com/wp-content/uploads/2021/09/239942145_10161230264449622_326264744901104928_n.jpg
END:VEVENT
END:VCALENDAR