BEGIN:VCALENDAR
VERSION:2.0
PRODID:-//Triatlón con Ciencia - ECPv6.15.10//NONSGML v1.0//EN
CALSCALE:GREGORIAN
METHOD:PUBLISH
X-WR-CALNAME:Triatlón con Ciencia
X-ORIGINAL-URL:https://triatlonconciencia.com
X-WR-CALDESC:Eventos para Triatlón con Ciencia
REFRESH-INTERVAL;VALUE=DURATION:PT1H
X-Robots-Tag:noindex
X-PUBLISHED-TTL:PT1H
BEGIN:VTIMEZONE
TZID:America/New_York
BEGIN:DAYLIGHT
TZOFFSETFROM:-0500
TZOFFSETTO:-0400
TZNAME:EDT
DTSTART:20200308T070000
END:DAYLIGHT
BEGIN:STANDARD
TZOFFSETFROM:-0400
TZOFFSETTO:-0500
TZNAME:EST
DTSTART:20201101T060000
END:STANDARD
BEGIN:DAYLIGHT
TZOFFSETFROM:-0500
TZOFFSETTO:-0400
TZNAME:EDT
DTSTART:20210314T070000
END:DAYLIGHT
BEGIN:STANDARD
TZOFFSETFROM:-0400
TZOFFSETTO:-0500
TZNAME:EST
DTSTART:20211107T060000
END:STANDARD
BEGIN:DAYLIGHT
TZOFFSETFROM:-0500
TZOFFSETTO:-0400
TZNAME:EDT
DTSTART:20220313T070000
END:DAYLIGHT
BEGIN:STANDARD
TZOFFSETFROM:-0400
TZOFFSETTO:-0500
TZNAME:EST
DTSTART:20221106T060000
END:STANDARD
BEGIN:DAYLIGHT
TZOFFSETFROM:-0500
TZOFFSETTO:-0400
TZNAME:EDT
DTSTART:20230312T070000
END:DAYLIGHT
BEGIN:STANDARD
TZOFFSETFROM:-0400
TZOFFSETTO:-0500
TZNAME:EST
DTSTART:20231105T060000
END:STANDARD
BEGIN:DAYLIGHT
TZOFFSETFROM:-0500
TZOFFSETTO:-0400
TZNAME:EDT
DTSTART:20240310T070000
END:DAYLIGHT
BEGIN:STANDARD
TZOFFSETFROM:-0400
TZOFFSETTO:-0500
TZNAME:EST
DTSTART:20241103T060000
END:STANDARD
END:VTIMEZONE
BEGIN:VTIMEZONE
TZID:America/Bogota
BEGIN:STANDARD
TZOFFSETFROM:-0500
TZOFFSETTO:-0500
TZNAME:-05
DTSTART:20210101T000000
END:STANDARD
END:VTIMEZONE
BEGIN:VEVENT
DTSTART;TZID=America/New_York:20230319T080000
DTEND;TZID=America/New_York:20230319T170000
DTSTAMP:20260423T234658
CREATED:20221219T141542Z
LAST-MODIFIED:20221219T141545Z
UID:5097-1679212800-1679245200@triatlonconciencia.com
SUMMARY:Ciclismo - Gran Fondo Ibague - La ruta
DESCRIPTION:El gran fondo ciudad musical es una fiesta en torno a la bicicleta en donde sus participantes podrán disfrutar de un recorrido con un paisaje exclusivo de esta región andina\, además se premiará el espíritu competitivo de sus participantes\, logrando así posicionarse como uno de los eventos más atractivos en la agenda del ciclismo colombiano. \n\n\n\nDistancias: Gran fondo:  144 Kms \n\n\n\nMedio Fondo: 95 Kms
URL:https://triatlonconciencia.com/calendario/ciclismo-gran-fondo-ibague-la-ruta/
END:VEVENT
BEGIN:VEVENT
DTSTART;TZID=America/New_York:20230312T080000
DTEND;TZID=America/New_York:20230312T170000
DTSTAMP:20260423T234658
CREATED:20221029T004914Z
LAST-MODIFIED:20221214T201726Z
UID:4875-1678608000-1678640400@triatlonconciencia.com
SUMMARY:Maratón de Barranquilla 2023
DESCRIPTION:Vive la experiencia de correr en la ciudad de Barranquilla\, es la capital del departamento Atlántico de Colombia y es un desbordante puerto marino\, bordeado por el río Magdalena. La ciudad es conocida por su enorme Carnaval\, que reúne a artistas con extravagantes disfraces\, carros elaborados y música cumbia. En el elegante vecindario El Prado\, el Museo Romántico exhibe artefactos de festivales y exhibiciones anteriores de famosos colombianos\, como el escritor Gabriel García Márquez.
URL:https://triatlonconciencia.com/calendario/maraton-de-barranquilla-2023/
END:VEVENT
BEGIN:VEVENT
DTSTART;TZID=America/New_York:20230226T060000
DTEND;TZID=America/New_York:20230226T170000
DTSTAMP:20260423T234658
CREATED:20221213T110017Z
LAST-MODIFIED:20221213T213553Z
UID:4903-1677391200-1677430800@triatlonconciencia.com
SUMMARY:Valida Nacional - Copa Colombia de Triatlon Atlántico
DESCRIPTION:Sede del evento en la modalidad de triatlón distancia sprint clasificatorio a Juegos Nacionales 2023\, Primera valida nacional de triatlon organizado por Endurance Challenge\, liga de triatlon del atlántico y la federación colombiana de triatlon\, las distancias propuestas son: \n\n\n\n1. Sprint: 750m natación + 20 kilómetros ciclismo + 5 kms atletismo  \n\n\n\n2. Estándar plus: 1600m natacion + 60kms ciclismo + 15 kms atletismo  \n\n\n\n3. Acuatlon: natación + atletismo
URL:https://triatlonconciencia.com/calendario/valida-nacional-copa-colombia-atlantico/
CATEGORIES:Acuatlon
END:VEVENT
BEGIN:VEVENT
DTSTART;TZID=America/New_York:20230219T080000
DTEND;TZID=America/New_York:20230219T170000
DTSTAMP:20260423T234658
CREATED:20221213T211313Z
LAST-MODIFIED:20221213T211733Z
UID:4898-1676793600-1676826000@triatlonconciencia.com
SUMMARY:Acuatlon Nacional Rionegro
DESCRIPTION:Evento Inicial de copa Colombia de triatlon organizado por la Liga de triatlon de Antioquia y la federación Colombiana de triatlon\, el acuatlon es una modalidad deportiva que se compone por natación y atletismo.
URL:https://triatlonconciencia.com/calendario/acuatlon-nacional-rionegro/
CATEGORIES:Triatlón
END:VEVENT
BEGIN:VEVENT
DTSTART;TZID=America/New_York:20230212T080000
DTEND;TZID=America/New_York:20230212T170000
DTSTAMP:20260423T234658
CREATED:20221213T201458Z
LAST-MODIFIED:20221213T201501Z
UID:4896-1676188800-1676221200@triatlonconciencia.com
SUMMARY:Media Maraton del Mar
DESCRIPTION:Media Maratón del Mar\, Cartagena Colombia. \n\n\n\n \n\n\n\nUn evento de atletismo en una de las ciudades más importantes de Colombia. \n\n\n\nDISTANCIAS \n\n\n\n5\, 10 y 21\,1 Kilómetros
URL:https://triatlonconciencia.com/calendario/media-maraton-del-mar-2/
CATEGORIES:Atletismo
END:VEVENT
BEGIN:VEVENT
DTSTART;TZID=America/New_York:20230129T080000
DTEND;TZID=America/New_York:20230129T170000
DTSTAMP:20260423T234658
CREATED:20221018T205558Z
LAST-MODIFIED:20221019T004431Z
UID:4828-1674979200-1675011600@triatlonconciencia.com
SUMMARY:Maratón de Miami
DESCRIPTION:Una de las maratones con mayor número de latinos en estados unidos. \n\n\n\nSe caracteriza por su recorrido practicamente plano a pesar del cruce por varios puentes\, un clima espectacular y una ambiente bien latino que hacen de esta carrera una gran fiesta. \n\n\n\n\n\n\n\n\n\n\nMiami Marathon
URL:https://triatlonconciencia.com/calendario/maraton-de-miami/
END:VEVENT
BEGIN:VEVENT
DTSTART;TZID=America/New_York:20221204T080000
DTEND;TZID=America/New_York:20221204T170000
DTSTAMP:20260423T234658
CREATED:20221019T004736Z
LAST-MODIFIED:20221019T004740Z
UID:4835-1670140800-1670173200@triatlonconciencia.com
SUMMARY:IRONMAN 70\,3 CARTAGENA COLOMBIA
DESCRIPTION:El evento de Triatlón de media distancia más masivo de Colombia.  \n\n\n\nUn lugar espectacular para disfrutar de la fiesta del triatlón de media distancia \n\n\n\nhttps://www.ironman.com/im703-cartagena-register
URL:https://triatlonconciencia.com/calendario/ironman-703-cartagena-colombia/
END:VEVENT
BEGIN:VEVENT
DTSTART;TZID=America/Bogota:20221119T120000
DTEND;TZID=America/Bogota:20221120T120000
DTSTAMP:20260423T234658
CREATED:20221019T004047Z
LAST-MODIFIED:20221019T004051Z
UID:4833-1668859200-1668945600@triatlonconciencia.com
SUMMARY:TRIATLÓN CALIMA - COPA COLOMBIA DE TRIATHLON
DESCRIPTION:SPRINT\, LARGA DISTANCIA\, AGUAS ABIERTAS Y ACUATHLON 
URL:https://triatlonconciencia.com/calendario/triatlon-calima-copa-colombia-de-triathlon/
END:VEVENT
BEGIN:VEVENT
DTSTART;TZID=America/New_York:20220925T080000
DTEND;TZID=America/New_York:20220925T170000
DTSTAMP:20260423T234658
CREATED:20220425T140212Z
LAST-MODIFIED:20220425T140215Z
UID:4558-1664092800-1664125200@triatlonconciencia.com
SUMMARY:Maratón de Berlín
DESCRIPTION:Una de las Grandes Maratones. Se caracteriza por tener el record del mundo en maratón. Una carrera practicamente plana y con una temperatura espectacular alrededor de 11 grados centígrados
URL:https://triatlonconciencia.com/calendario/maraton-de-berlin/
END:VEVENT
BEGIN:VEVENT
DTSTART;TZID=America/New_York:20220814T080000
DTEND;TZID=America/New_York:20220814T170000
DTSTAMP:20260423T234658
CREATED:20220609T155651Z
LAST-MODIFIED:20220609T155653Z
UID:4626-1660464000-1660496400@triatlonconciencia.com
SUMMARY:La ruta Colombia -Cartagena
DESCRIPTION:
URL:https://triatlonconciencia.com/calendario/la-ruta-colombia-cartagena/
END:VEVENT
BEGIN:VEVENT
DTSTART;TZID=America/New_York:20220807T080000
DTEND;TZID=America/New_York:20220807T170000
DTSTAMP:20260423T234658
CREATED:20220609T154533Z
LAST-MODIFIED:20220609T154536Z
UID:4624-1659859200-1659891600@triatlonconciencia.com
SUMMARY:70\,3 TopMan Colombia
DESCRIPTION:Primer triatlón de Media Distancia en  Tolú\, Coveñas. Un Paraiso para la practica del Triatlón.
URL:https://triatlonconciencia.com/calendario/703-topman-colombia/
CATEGORIES:Atletismo,Triatlón
END:VEVENT
BEGIN:VEVENT
DTSTART;TZID=America/New_York:20220731T080000
DTEND;TZID=America/New_York:20220731T170000
DTSTAMP:20260423T234658
CREATED:20220609T153938Z
LAST-MODIFIED:20220609T154230Z
UID:4619-1659254400-1659286800@triatlonconciencia.com
SUMMARY:Carrera de La Mujer
DESCRIPTION:Una de las carreras más importantes en Colombia para promocionar el Running en las mujeres y para promover hábitos saludables
URL:https://triatlonconciencia.com/calendario/carrera-de-la-mujer/
LOCATION:Bogotá\, Bogotá\, Colombia
CATEGORIES:Atletismo
END:VEVENT
BEGIN:VEVENT
DTSTART;VALUE=DATE:20220709
DTEND;VALUE=DATE:20220711
DTSTAMP:20260423T234658
CREATED:20220414T101555Z
LAST-MODIFIED:20220414T104001Z
UID:4540-1657324800-1657497599@triatlonconciencia.com
SUMMARY:Triatlon El peñol-Guatape / Sportravel
DESCRIPTION:Un circuito caracterizado por una natacion en la represa del Municipio del Peñol\, un ciclismo caracterizado por tener ascensos\,descensos y curvas técnicas\, el atletismo tambien puede tener algo de desnivel
URL:https://triatlonconciencia.com/calendario/triatlon-el-penol-guatape-sportravel/
LOCATION:El Peñol\, Antioquia\, El Peñol\, Colombia
END:VEVENT
BEGIN:VEVENT
DTSTART;TZID=America/New_York:20220626T080000
DTEND;TZID=America/New_York:20220626T170000
DTSTAMP:20260423T234658
CREATED:20220420T201705Z
LAST-MODIFIED:20220420T201708Z
UID:4556-1656230400-1656262800@triatlonconciencia.com
SUMMARY:Media Maraton de Cali
DESCRIPTION:Esta carrera se caracteriza por ser plana\, una temperatura entre 22 y 28 grados Centígrados y la alegría de la gente de Cli
URL:https://triatlonconciencia.com/calendario/media-maraton-de-cali/
CATEGORIES:Atletismo
END:VEVENT
BEGIN:VEVENT
DTSTART;TZID=America/New_York:20220515T080000
DTEND;TZID=America/New_York:20220515T170000
DTSTAMP:20260423T234658
CREATED:20220414T103716Z
LAST-MODIFIED:20220414T104151Z
UID:4545-1652601600-1652634000@triatlonconciencia.com
SUMMARY:70.3 3D Race Barranquilla
DESCRIPTION:Primer evento de Triatlón Media Distancia en Barranquilla. Natación en Puerto Velero
URL:https://triatlonconciencia.com/calendario/70-3-3d-race-barranquilla/
CATEGORIES:Atletismo
END:VEVENT
BEGIN:VEVENT
DTSTART;VALUE=DATE:20220429
DTEND;VALUE=DATE:20220502
DTSTAMP:20260423T234658
CREATED:20220414T100831Z
LAST-MODIFIED:20220414T100831Z
UID:4534-1651190400-1651449599@triatlonconciencia.com
SUMMARY:Campeonato Nacional Interligas de Triatlón distancia Sprint
DESCRIPTION:El Campeonato Nacional Interligas distancia Sprint Junior A y B\, Sub 23 y Elite – IV Copa Colombia de Acuatlón Infantil\, Menores y Sub 19 se llevará a cabo en el Malecón Cameguadua espejo de agua de Chinchiná\, Caldas del 29 de abril al 1 de mayo del 2022\, evento que regirá bajo la normatividad y reglamentación de la Word Triathlon.
URL:https://triatlonconciencia.com/calendario/campeonato-nacional-interligas-de-triatlon-distancia-sprint/
CATEGORIES:Triatlón
END:VEVENT
BEGIN:VEVENT
DTSTART;TZID=America/New_York:20220206T060000
DTEND;TZID=America/New_York:20220206T100000
DTSTAMP:20260423T234658
CREATED:20210911T122439Z
LAST-MODIFIED:20210911T122942Z
UID:4214-1644127200-1644141600@triatlonconciencia.com
SUMMARY:Maratón y Media Maratón Miami
DESCRIPTION:Una de las carreras de atletismo de calle más latinas del mundo\, una carrera para repetir y repetir
URL:https://triatlonconciencia.com/calendario/maraton-y-media-maraton-miami/
ATTACH;FMTTYPE=image/jpeg:https://triatlonconciencia.com/wp-content/uploads/2021/09/EVIW-MM_DigitalAds_RegNowOpen_1200x6282.jpg
END:VEVENT
BEGIN:VEVENT
DTSTART;TZID=America/New_York:20211212T060000
DTEND;TZID=America/New_York:20211212T140000
DTSTAMP:20260423T234658
CREATED:20210910T171832Z
LAST-MODIFIED:20210927T143437Z
UID:4136-1639288800-1639317600@triatlonconciencia.com
SUMMARY:Ironman Cartagena 70\,3
DESCRIPTION:Triatlón de larga distancia más importante de Colombia
URL:https://triatlonconciencia.com/calendario/ironman-cartagena-703/
LOCATION:Cartagena\, Colombia\, Cartagena\, Colombia
CATEGORIES:Triatlón larga distancia
ATTACH;FMTTYPE=image/png:https://triatlonconciencia.com/wp-content/uploads/2021/09/logo_1_large.png
END:VEVENT
BEGIN:VEVENT
DTSTART;TZID=America/New_York:20211107T080000
DTEND;TZID=America/New_York:20211107T170000
DTSTAMP:20260423T234658
CREATED:20210917T132320Z
LAST-MODIFIED:20210917T132320Z
UID:4293-1636272000-1636304400@triatlonconciencia.com
SUMMARY:Maratón Nueva York
DESCRIPTION:Una de las Carreras de maratón más importantes del mundo
URL:https://triatlonconciencia.com/calendario/maraton-nueva-york/
LOCATION:New York\, USA\, United States
END:VEVENT
BEGIN:VEVENT
DTSTART;TZID=America/New_York:20211107T060000
DTEND;TZID=America/New_York:20211107T120000
DTSTAMP:20260423T234658
CREATED:20210927T142449Z
LAST-MODIFIED:20210927T142449Z
UID:4333-1636264800-1636286400@triatlonconciencia.com
SUMMARY:Media Maratón Rionegro
DESCRIPTION:
URL:https://triatlonconciencia.com/calendario/media-maraton-rionegro/
LOCATION:Rionegro\, Antioquia\, Colombia
CATEGORIES:Atletismo
ATTACH;FMTTYPE=image/jpeg:https://triatlonconciencia.com/wp-content/uploads/2021/09/WhatsApp-Image-2021-09-27-at-9.17.26-AM.jpeg
END:VEVENT
BEGIN:VEVENT
DTSTART;TZID=America/New_York:20211107T060000
DTEND;TZID=America/New_York:20211107T120000
DTSTAMP:20260423T234658
CREATED:20210917T132047Z
LAST-MODIFIED:20210917T132047Z
UID:4290-1636264800-1636286400@triatlonconciencia.com
SUMMARY:Maratón de Barcelona
DESCRIPTION:Una de las carreras más importantes de España
URL:https://triatlonconciencia.com/calendario/maraton-de-barcelona/
LOCATION:Barcelona\, España
END:VEVENT
BEGIN:VEVENT
DTSTART;TZID=America/New_York:20211017T060000
DTEND;TZID=America/New_York:20211017T120000
DTSTAMP:20260423T234658
CREATED:20210915T131750Z
LAST-MODIFIED:20210915T132118Z
UID:4263-1634450400-1634472000@triatlonconciencia.com
SUMMARY:Gran Triatlón La Ceja
DESCRIPTION:Evento de Triatlón de distancias cortas\, en el municipio de la Ceja Antioquia\, organizado por Club Deportivo Intletic \nLink para Afiliados a la Liga Antioqueña de Triatlón https://www.eventrid.com.co/eventos/intl3tic/trilaceja-para-afiliados \nLink para no afiliados a la Liga Antioqueña de Triatlón https://www.eventrid.com.co/eventos/intl3tic/triatlon-la-ceja-2021-para-no-afiliados-y-otros \n 
URL:https://triatlonconciencia.com/calendario/gran-triatlon-la-ceja/
LOCATION:La Ceja\, Antioquia\, Colombia\, Colombia
CATEGORIES:Triatlón
END:VEVENT
BEGIN:VEVENT
DTSTART;VALUE=DATE:20211001
DTEND;VALUE=DATE:20211004
DTSTAMP:20260423T234658
CREATED:20210911T135043Z
LAST-MODIFIED:20210911T135043Z
UID:4220-1633046400-1633305599@triatlonconciencia.com
SUMMARY:Triatlón Calima / Copa Colombia
DESCRIPTION:Evento de Triatlón pertenciente a la Copa Colombia\, realizado en Calima\, Valle. TRIATLÓN SPRINT JUNIOR A\, SUB 23 Y ELITE \nTRIATLÓN SUPER SPRINT\, MENORES\, JUNIOR A\, JUNIOR B\, SUB 23 Y ELITE \nTRIATLÓN 36.4 K Y 70 K GRUPOS POR EDAD \nFESTIVAL NACIONAL DE ACUATLON INFANTIL\, MENORES Y PROMOCIONAL \nVALLE ORO PURO – VALLE INVENCIBLE
URL:https://triatlonconciencia.com/calendario/triatlon-calima-copa-colombia/
LOCATION:Calima\, Valle\, Colombia\, Calima\, Valle\, Colombia
ATTACH;FMTTYPE=image/png:https://triatlonconciencia.com/wp-content/uploads/2021/09/Captura-de-Pantalla-2021-09-11-a-las-8.49.49-a.-m..png
END:VEVENT
BEGIN:VEVENT
DTSTART;TZID=America/New_York:20210926T060000
DTEND;TZID=America/New_York:20210926T120000
DTSTAMP:20260423T234658
CREATED:20210911T101803Z
LAST-MODIFIED:20210911T102121Z
UID:4210-1632636000-1632657600@triatlonconciencia.com
SUMMARY:TriBaqSeries
DESCRIPTION:Evento de triatlón realizado en la ciudad de barranquilla en la modalidad sprint. Natación en Complejo acuático.\nNatación 750 mts\nCiclismo 20km\nAtletismo 5 km
URL:https://triatlonconciencia.com/calendario/tribaqseries/
LOCATION:Barranquila\, Atlántico\, Colombia\, Colombia\, Colombia
CATEGORIES:Triatlón
END:VEVENT
BEGIN:VEVENT
DTSTART;TZID=America/New_York:20210926T060000
DTEND;TZID=America/New_York:20210926T120000
DTSTAMP:20260423T234658
CREATED:20210910T172731Z
LAST-MODIFIED:20210910T172731Z
UID:4144-1632636000-1632657600@triatlonconciencia.com
SUMMARY:El Peñol Antioquia
DESCRIPTION:Evento de la Liga Antioquieña Triatlón\, con distancias Super Sprint\, Sprint Expertos y relevos. \nAbierto para independientes y pertenecientes a clubes \n 
URL:https://triatlonconciencia.com/calendario/el-penol-antioquia/
LOCATION:El Peñol\, Antioquia\, El Peñol\, Colombia
CATEGORIES:Triatlón
ATTACH;FMTTYPE=image/jpeg:https://triatlonconciencia.com/wp-content/uploads/2021/09/239942145_10161230264449622_326264744901104928_n.jpg
END:VEVENT
END:VCALENDAR