BEGIN:VCALENDAR
VERSION:2.0
PRODID:-//Triatlón con Ciencia - ECPv6.15.10//NONSGML v1.0//EN
CALSCALE:GREGORIAN
METHOD:PUBLISH
X-ORIGINAL-URL:https://triatlonconciencia.com
X-WR-CALDESC:Eventos para Triatlón con Ciencia
REFRESH-INTERVAL;VALUE=DURATION:PT1H
X-Robots-Tag:noindex
X-PUBLISHED-TTL:PT1H
BEGIN:VTIMEZONE
TZID:America/New_York
BEGIN:DAYLIGHT
TZOFFSETFROM:-0500
TZOFFSETTO:-0400
TZNAME:EDT
DTSTART:20210314T070000
END:DAYLIGHT
BEGIN:STANDARD
TZOFFSETFROM:-0400
TZOFFSETTO:-0500
TZNAME:EST
DTSTART:20211107T060000
END:STANDARD
BEGIN:DAYLIGHT
TZOFFSETFROM:-0500
TZOFFSETTO:-0400
TZNAME:EDT
DTSTART:20220313T070000
END:DAYLIGHT
BEGIN:STANDARD
TZOFFSETFROM:-0400
TZOFFSETTO:-0500
TZNAME:EST
DTSTART:20221106T060000
END:STANDARD
BEGIN:DAYLIGHT
TZOFFSETFROM:-0500
TZOFFSETTO:-0400
TZNAME:EDT
DTSTART:20230312T070000
END:DAYLIGHT
BEGIN:STANDARD
TZOFFSETFROM:-0400
TZOFFSETTO:-0500
TZNAME:EST
DTSTART:20231105T060000
END:STANDARD
BEGIN:DAYLIGHT
TZOFFSETFROM:-0500
TZOFFSETTO:-0400
TZNAME:EDT
DTSTART:20240310T070000
END:DAYLIGHT
BEGIN:STANDARD
TZOFFSETFROM:-0400
TZOFFSETTO:-0500
TZNAME:EST
DTSTART:20241103T060000
END:STANDARD
END:VTIMEZONE
BEGIN:VTIMEZONE
TZID:America/Bogota
BEGIN:STANDARD
TZOFFSETFROM:-0500
TZOFFSETTO:-0500
TZNAME:-05
DTSTART:20210101T000000
END:STANDARD
END:VTIMEZONE
BEGIN:VEVENT
DTSTART;TZID=America/New_York:20230813T080000
DTEND;TZID=America/New_York:20230813T170000
DTSTAMP:20260423T222422
CREATED:20221214T160153Z
LAST-MODIFIED:20221217T104956Z
UID:4990-1691913600-1691946000@triatlonconciencia.com
SUMMARY:Topman 70.3 - Tolu Sucre
DESCRIPTION:Con su segunda versión llega Topman Tolu\, una franquicia con varias competencias a nivel suramericano y un campeonato final con los mejores participantes de cada evento\, esta carrera se realiza en las playas de Tolu departamento de Sucre en aguas con poco oleaje y bastante cálidas. El ciclismo es en su mayoría plano con muy buenas vías.  El atletismo es en su mayoría plano y bastante agradable.  \n\n\n\nDistancias: \n\n\n\nTriatlon 70.3: 1900m natación + 90kms ciclismo + 21 kms atletismo. \n\n\n\n Sprint: 750m natacion + 20kms ciclismo + 5 kms atletismo. \n\n\n\n Estandar: 1500m natacion + 40kms ciclismo + 10 kms atletismo
URL:https://triatlonconciencia.com/calendario/topman-70-3-tolu-sucre/
CATEGORIES:Triatlón larga distancia
END:VEVENT
BEGIN:VEVENT
DTSTART;TZID=America/New_York:20230806T080000
DTEND;TZID=America/New_York:20230806T170000
DTSTAMP:20260423T222422
CREATED:20221219T142450Z
LAST-MODIFIED:20221219T142453Z
UID:5101-1691308800-1691341200@triatlonconciencia.com
SUMMARY:Ciclismo - Gran Fondo Quindio
DESCRIPTION:Distancias: \n\n\n\nGran Fondo: 26 Kms con 2121 Mts de desnivel positivo. \n\n\n\nSalida: Centro Cultural Metropolitano De Convenciones\, avenida centenario vía chaguala\, Calarcá\, Alto de la Línea. Se llega al mismo punto de salida Centro Cultural Metropolitano De Convenciones. \n\n\n\nRuta propuesta\, está sujeta a permisos viales. \n\n\n\nMedio Fondo: 10\,5 kms con 808 Mts de desnivel positivo.  \n\n\n\nSalida: Centro Cultural Metropolitano De Convenciones\, avenida centenario vía chaguala\, Calarcá\, Alto de la Línea (MITAD del recorrido). Se llega al mismo punto de salida Centro Cultural Metropolitano De Convenciones. \n\n\n\nRuta propuesta\, está sujeta a permisos viales.
URL:https://triatlonconciencia.com/calendario/ciclismo-gran-fondo-quindio-2/
END:VEVENT
BEGIN:VEVENT
DTSTART;TZID=America/New_York:20230716T080000
DTEND;TZID=America/New_York:20230716T170000
DTSTAMP:20260423T222422
CREATED:20221214T192727Z
LAST-MODIFIED:20221214T192730Z
UID:5014-1689494400-1689526800@triatlonconciencia.com
SUMMARY:Valida Copa Colombia Triatlon - Reto del Golfo/ Coveñas
DESCRIPTION:Fecha exacta y distancia aun no publicadas por el organizador. Más información próximamente …
URL:https://triatlonconciencia.com/calendario/valida-copa-colombia-triatlon-reto-del-golfo-covenas/
CATEGORIES:Acuatlon
END:VEVENT
BEGIN:VEVENT
DTSTART;TZID=America/New_York:20230709T080000
DTEND;TZID=America/New_York:20230709T170000
DTSTAMP:20260423T222422
CREATED:20221213T220139Z
LAST-MODIFIED:20221213T220143Z
UID:4916-1688889600-1688922000@triatlonconciencia.com
SUMMARY:Triatlon y Aguas Abiertas Sportravel - El Peñol - Antioquia
DESCRIPTION:En el peñol el agua es algo fría pero no es obligatorio el traje de neopreno\, son aguas oscuras pero bastante tranquilas. Ciclismo: Muy exigente\, en estándar con aproximadamente 750 mts de altimetría acumulada\, en 70\,3 serian 1500 mts aproximadamente. Atletismo:  con un terreno muy variado\, con bastante ascenso en la ruta\, es un recorrido fresco y  con paisajes bonitos  gracias al toque  del oriente antioqueño.  \n\n\n\nDistancias: \n\n\n\nTriatlon 70.3: 1900m natación + 90kms ciclismo + 21 kms atletismo. \n\n\n\nEstandar: 1500m natacion + 40kms ciclismo + 10 kms atletismo. \n\n\n\nSprint: 750m natacion + 20kms ciclismo + 5 kms atletismo.  \n\n\n\n3000 Metros aguas abiertas. \n\n\n\n5000 Metros aguas abiertas
URL:https://triatlonconciencia.com/calendario/triatlon-y-aguas-abiertas-sportravel-el-penol-antioquia/
CATEGORIES:Triatlón larga distancia
END:VEVENT
BEGIN:VEVENT
DTSTART;TZID=America/New_York:20230625T080000
DTEND;TZID=America/New_York:20230625T170000
DTSTAMP:20260423T222422
CREATED:20221213T215243Z
LAST-MODIFIED:20221213T215249Z
UID:4911-1687680000-1687712400@triatlonconciencia.com
SUMMARY:Rastaman Triatlon 70.3 - San Andres Islas
DESCRIPTION:Natación espectacular en aguas claras y cálidas\, se cruza desde jhony kay hasta la propia isla\, lo que le añade ese componente desafiante. \n\n\n\nEl ciclismo tiene unos paisajes increíbles al lado del mar\, con un viento fuerte y un sol directo\, pero con muy buenas vías. Atletismo: se realiza por la misma ruta del ciclismo por lo que implica un componente de dificultad\, por el fuerte sol y temperaturas altas pero con la mejor vista del mar de los 7 colores al lado. \n\n\n\nDistancia: 1900m natación + 90kms ciclismo + 21 kms atletismo
URL:https://triatlonconciencia.com/calendario/rastaman-triatlon-70-3-san-andres-islas/
CATEGORIES:Triatlón larga distancia
END:VEVENT
BEGIN:VEVENT
DTSTART;TZID=America/New_York:20230618T080000
DTEND;TZID=America/New_York:20230618T170000
DTSTAMP:20260423T222422
CREATED:20221214T195318Z
LAST-MODIFIED:20221214T195322Z
UID:5032-1687075200-1687107600@triatlonconciencia.com
SUMMARY:Media Maratón Cali
DESCRIPTION:5\, 10 y 21 kilómetros
URL:https://triatlonconciencia.com/calendario/media-maraton-cali/
CATEGORIES:Atletismo
END:VEVENT
BEGIN:VEVENT
DTSTART;TZID=America/New_York:20230611T080000
DTEND;TZID=America/New_York:20230611T170000
DTSTAMP:20260423T222422
CREATED:20221221T221729Z
LAST-MODIFIED:20221221T221733Z
UID:5140-1686470400-1686502800@triatlonconciencia.com
SUMMARY:Triatlon del Cafe - Chinchina Caldas
DESCRIPTION:Copa continental Sprint \n\n\n\nResponsable: FEDECOLTRI – LIGA CALDAS
URL:https://triatlonconciencia.com/calendario/triatlon-del-cafe-chinchina-caldas/
CATEGORIES:Triatlón
END:VEVENT
BEGIN:VEVENT
DTSTART;TZID=America/New_York:20230611T080000
DTEND;TZID=America/New_York:20230611T170000
DTSTAMP:20260423T222422
CREATED:20221214T192511Z
LAST-MODIFIED:20221214T192515Z
UID:5009-1686470400-1686502800@triatlonconciencia.com
SUMMARY:Valida Copa Colombia - Reto Opita - Huila
DESCRIPTION:Fecha exacta y distancia aun no publicadas por el organizador. Más información próximamente …
URL:https://triatlonconciencia.com/calendario/valida-copa-colombia-reto-opita-huila/
END:VEVENT
BEGIN:VEVENT
DTSTART;TZID=America/New_York:20230604T080000
DTEND;TZID=America/New_York:20230604T170000
DTSTAMP:20260423T222422
CREATED:20221219T142913Z
LAST-MODIFIED:20221219T142916Z
UID:5103-1685865600-1685898000@triatlonconciencia.com
SUMMARY:Ciclismo Ruta Medellin
DESCRIPTION:Participa del mejor evento para ciclistas recreativos\, siéntete como un profesional y disfruta de Medellín\, sus paisajes y municipios vecinos. 
URL:https://triatlonconciencia.com/calendario/ciclismo-ruta-medellin-2/
END:VEVENT
BEGIN:VEVENT
DTSTART;TZID=America/New_York:20230528T080000
DTEND;TZID=America/New_York:20230528T170000
DTSTAMP:20260423T222422
CREATED:20221213T214533Z
LAST-MODIFIED:20221213T214536Z
UID:4909-1685260800-1685293200@triatlonconciencia.com
SUMMARY:3Race - Distancia 70.3  Barranquilla
DESCRIPTION:Segunda Versión de el 3race una competencia en formato de triatlon 70.3\, con una primera versión muy exitosa y con muy buenas referencias de sus participantes\, llegan con una segunda versión mejorada\, con un segmento de natación en puerto velero con aguas tranquilas y cálidas. Un ciclismo desafiante con alta temperatura algo de altimetría pero con vías excelentes y paisajes hermosos. El atletismo se realiza en el malecón de la propia Barranquilla con un calor sabroso y el apoyo de sus locales.  \n\n\n\nDistancia: 1900m natación + 90kms ciclismo + 21 kms atletismo
URL:https://triatlonconciencia.com/calendario/3race-distancia-70-3-barranquilla/
CATEGORIES:Triatlón larga distancia
END:VEVENT
BEGIN:VEVENT
DTSTART;TZID=America/New_York:20230507T080000
DTEND;TZID=America/New_York:20230507T170000
DTSTAMP:20260423T222422
CREATED:20221219T141855Z
LAST-MODIFIED:20221219T141858Z
UID:5099-1683446400-1683478800@triatlonconciencia.com
SUMMARY:Ciclismo - Gran Fondo Antioquia - La Ruta
DESCRIPTION:Estás a un paso de vivir el mejor evento de ciclismo recreativo de Colombia. Completa tu inscripción y prepara tus piernas\, corazón y mente para #GranFondoAntioquia el próximo 7 de mayo.
URL:https://triatlonconciencia.com/calendario/ciclismo-gran-fondo-antioquia-la-ruta/
END:VEVENT
BEGIN:VEVENT
DTSTART;TZID=America/New_York:20230507T080000
DTEND;TZID=America/New_York:20230507T170000
DTSTAMP:20260423T222422
CREATED:20221214T192225Z
LAST-MODIFIED:20221214T192228Z
UID:5004-1683446400-1683478800@triatlonconciencia.com
SUMMARY:Leyenda del Magdalena 70.3 - Prado\,Tolima
DESCRIPTION:Una de las zonas mas bonitas del pais\, rodeado de montañas y temperatura agrable\, los deportistas podrán disfrutar de la natación en la represa de prado\, el ciclismo va desde la represa hasta el Guamo-Tolima con unos paisajes increíbles\, y finaliza con los 21 kms de trote en el casco urbano de Prado\, (ciclismo y atletismo con altimetría) \n\n\n\nDistancia: 1000m natación + 90kms ciclismo + 21 kms atletismo
URL:https://triatlonconciencia.com/calendario/leyenda-del-magdalena-70-3-pradotolima/
CATEGORIES:Triatlón larga distancia
END:VEVENT
BEGIN:VEVENT
DTSTART;TZID=America/New_York:20230423T080000
DTEND;TZID=America/New_York:20230423T170000
DTSTAMP:20260423T222422
CREATED:20221214T200931Z
LAST-MODIFIED:20221214T200934Z
UID:5048-1682236800-1682269200@triatlonconciencia.com
SUMMARY:Oceanman Cartagena - Aguas Abiertas
DESCRIPTION:Un desafío entre el mar caribe y tu. \n\n\n\nDistancias:  \n\n\n\n2\, 5 y 10 kilómetros
URL:https://triatlonconciencia.com/calendario/oceanman-cartagena-aguas-abiertas/
END:VEVENT
BEGIN:VEVENT
DTSTART;TZID=America/New_York:20230417T080000
DTEND;TZID=America/New_York:20230417T170000
DTSTAMP:20260423T222422
CREATED:20221019T011348Z
LAST-MODIFIED:20221019T011353Z
UID:4839-1681718400-1681750800@triatlonconciencia.com
SUMMARY:Maratón de Bostón 2023
DESCRIPTION:Miembros de nuestro Equipo han hecho parte y estarán en la Icónica maratón de Bostón en su evento 127
URL:https://triatlonconciencia.com/calendario/maraton-de-boston-2023/
END:VEVENT
BEGIN:VEVENT
DTSTART;TZID=America/New_York:20230326T080000
DTEND;TZID=America/New_York:20230326T170000
DTSTAMP:20260423T222422
CREATED:20221214T194216Z
LAST-MODIFIED:20221214T194220Z
UID:5026-1679817600-1679850000@triatlonconciencia.com
SUMMARY:Ciclismo - Clásico el Colombiano (Oriente Antioqueño)
DESCRIPTION:RUTA — Parque del Agua y la Madera en El Retiro – Pantanillo – La Ceja – El Tambo – La Ceja – La Unión – San Antonio de Pereira – Rionegro – Llanogrande – Parque del Agua y la Madera en el Retiro. \n\n\n\nDistancias: \n\n\n\nRodada 31kms.   \n\n\n\nGran fondo 111kms
URL:https://triatlonconciencia.com/calendario/ciclismo-clasico-el-colombiano-oriente-antioqueno/
END:VEVENT
BEGIN:VEVENT
DTSTART;TZID=America/New_York:20230326T080000
DTEND;TZID=America/New_York:20230326T170000
DTSTAMP:20260423T222422
CREATED:20221213T213242Z
LAST-MODIFIED:20221213T213846Z
UID:4905-1679817600-1679850000@triatlonconciencia.com
SUMMARY:Valida Nacional Copa Colombia Triatlon - San Andres Islas
DESCRIPTION:Una de las carreras mas bonitas del triatlon en Colombia se da en las islas de  San Andres\, con una natación espectacular en aguas claras y cálidas con un componente de dificultad en la orientación por su oleaje\, en la distancia estándar se cruza desde jhony kay hasta la propia isla\, lo que le añade ese componente desafiante.  \n\n\n\nCiclismo: el ciclismo tiene unos paisajes increíbles al lado del mar\, con un viento fuerte y un sol directo\, pero es un ciclismo rápido y llano.  \n\n\n\nAtletismo: se recorre parte del malecón y zonas cercanas a la playa\, sintiendo el apoyo de los isleños y espectadores. \n\n\n\nDistancias propuestas: \n\n\n\nsprint: 750metros natación + 20kms ciclismo + 5 kms atletismo.  \n\n\n\nEstandar: 1500m natacion + 40kms ciclismo + 10 kms atletismo.  \n\n\n\nMorgan challenge: sprint+ 5 kms atletismo + estandar (cada distancia un dia diferente)
URL:https://triatlonconciencia.com/calendario/valida-nacional-copa-colombia-triatlon-san-andres-islas/
CATEGORIES:Acuatlon
END:VEVENT
BEGIN:VEVENT
DTSTART;TZID=America/New_York:20230319T080000
DTEND;TZID=America/New_York:20230319T170000
DTSTAMP:20260423T222422
CREATED:20221219T141542Z
LAST-MODIFIED:20221219T141545Z
UID:5097-1679212800-1679245200@triatlonconciencia.com
SUMMARY:Ciclismo - Gran Fondo Ibague - La ruta
DESCRIPTION:El gran fondo ciudad musical es una fiesta en torno a la bicicleta en donde sus participantes podrán disfrutar de un recorrido con un paisaje exclusivo de esta región andina\, además se premiará el espíritu competitivo de sus participantes\, logrando así posicionarse como uno de los eventos más atractivos en la agenda del ciclismo colombiano. \n\n\n\nDistancias: Gran fondo:  144 Kms \n\n\n\nMedio Fondo: 95 Kms
URL:https://triatlonconciencia.com/calendario/ciclismo-gran-fondo-ibague-la-ruta/
END:VEVENT
BEGIN:VEVENT
DTSTART;TZID=America/New_York:20230312T080000
DTEND;TZID=America/New_York:20230312T170000
DTSTAMP:20260423T222422
CREATED:20221029T004914Z
LAST-MODIFIED:20221214T201726Z
UID:4875-1678608000-1678640400@triatlonconciencia.com
SUMMARY:Maratón de Barranquilla 2023
DESCRIPTION:Vive la experiencia de correr en la ciudad de Barranquilla\, es la capital del departamento Atlántico de Colombia y es un desbordante puerto marino\, bordeado por el río Magdalena. La ciudad es conocida por su enorme Carnaval\, que reúne a artistas con extravagantes disfraces\, carros elaborados y música cumbia. En el elegante vecindario El Prado\, el Museo Romántico exhibe artefactos de festivales y exhibiciones anteriores de famosos colombianos\, como el escritor Gabriel García Márquez.
URL:https://triatlonconciencia.com/calendario/maraton-de-barranquilla-2023/
END:VEVENT
BEGIN:VEVENT
DTSTART;TZID=America/New_York:20230226T060000
DTEND;TZID=America/New_York:20230226T170000
DTSTAMP:20260423T222422
CREATED:20221213T110017Z
LAST-MODIFIED:20221213T213553Z
UID:4903-1677391200-1677430800@triatlonconciencia.com
SUMMARY:Valida Nacional - Copa Colombia de Triatlon Atlántico
DESCRIPTION:Sede del evento en la modalidad de triatlón distancia sprint clasificatorio a Juegos Nacionales 2023\, Primera valida nacional de triatlon organizado por Endurance Challenge\, liga de triatlon del atlántico y la federación colombiana de triatlon\, las distancias propuestas son: \n\n\n\n1. Sprint: 750m natación + 20 kilómetros ciclismo + 5 kms atletismo  \n\n\n\n2. Estándar plus: 1600m natacion + 60kms ciclismo + 15 kms atletismo  \n\n\n\n3. Acuatlon: natación + atletismo
URL:https://triatlonconciencia.com/calendario/valida-nacional-copa-colombia-atlantico/
CATEGORIES:Acuatlon
END:VEVENT
BEGIN:VEVENT
DTSTART;TZID=America/New_York:20230219T080000
DTEND;TZID=America/New_York:20230219T170000
DTSTAMP:20260423T222422
CREATED:20221213T211313Z
LAST-MODIFIED:20221213T211733Z
UID:4898-1676793600-1676826000@triatlonconciencia.com
SUMMARY:Acuatlon Nacional Rionegro
DESCRIPTION:Evento Inicial de copa Colombia de triatlon organizado por la Liga de triatlon de Antioquia y la federación Colombiana de triatlon\, el acuatlon es una modalidad deportiva que se compone por natación y atletismo.
URL:https://triatlonconciencia.com/calendario/acuatlon-nacional-rionegro/
CATEGORIES:Triatlón
END:VEVENT
BEGIN:VEVENT
DTSTART;TZID=America/New_York:20230212T080000
DTEND;TZID=America/New_York:20230212T170000
DTSTAMP:20260423T222422
CREATED:20221213T201458Z
LAST-MODIFIED:20221213T201501Z
UID:4896-1676188800-1676221200@triatlonconciencia.com
SUMMARY:Media Maraton del Mar
DESCRIPTION:Media Maratón del Mar\, Cartagena Colombia. \n\n\n\n \n\n\n\nUn evento de atletismo en una de las ciudades más importantes de Colombia. \n\n\n\nDISTANCIAS \n\n\n\n5\, 10 y 21\,1 Kilómetros
URL:https://triatlonconciencia.com/calendario/media-maraton-del-mar-2/
CATEGORIES:Atletismo
END:VEVENT
BEGIN:VEVENT
DTSTART;TZID=America/New_York:20230129T080000
DTEND;TZID=America/New_York:20230129T170000
DTSTAMP:20260423T222422
CREATED:20221018T205558Z
LAST-MODIFIED:20221019T004431Z
UID:4828-1674979200-1675011600@triatlonconciencia.com
SUMMARY:Maratón de Miami
DESCRIPTION:Una de las maratones con mayor número de latinos en estados unidos. \n\n\n\nSe caracteriza por su recorrido practicamente plano a pesar del cruce por varios puentes\, un clima espectacular y una ambiente bien latino que hacen de esta carrera una gran fiesta. \n\n\n\n\n\n\n\n\n\n\nMiami Marathon
URL:https://triatlonconciencia.com/calendario/maraton-de-miami/
END:VEVENT
BEGIN:VEVENT
DTSTART;TZID=America/New_York:20221204T080000
DTEND;TZID=America/New_York:20221204T170000
DTSTAMP:20260423T222422
CREATED:20221019T004736Z
LAST-MODIFIED:20221019T004740Z
UID:4835-1670140800-1670173200@triatlonconciencia.com
SUMMARY:IRONMAN 70\,3 CARTAGENA COLOMBIA
DESCRIPTION:El evento de Triatlón de media distancia más masivo de Colombia.  \n\n\n\nUn lugar espectacular para disfrutar de la fiesta del triatlón de media distancia \n\n\n\nhttps://www.ironman.com/im703-cartagena-register
URL:https://triatlonconciencia.com/calendario/ironman-703-cartagena-colombia/
END:VEVENT
BEGIN:VEVENT
DTSTART;TZID=America/Bogota:20221119T120000
DTEND;TZID=America/Bogota:20221120T120000
DTSTAMP:20260423T222422
CREATED:20221019T004047Z
LAST-MODIFIED:20221019T004051Z
UID:4833-1668859200-1668945600@triatlonconciencia.com
SUMMARY:TRIATLÓN CALIMA - COPA COLOMBIA DE TRIATHLON
DESCRIPTION:SPRINT\, LARGA DISTANCIA\, AGUAS ABIERTAS Y ACUATHLON 
URL:https://triatlonconciencia.com/calendario/triatlon-calima-copa-colombia-de-triathlon/
END:VEVENT
BEGIN:VEVENT
DTSTART;TZID=America/New_York:20220925T080000
DTEND;TZID=America/New_York:20220925T170000
DTSTAMP:20260423T222422
CREATED:20220425T140212Z
LAST-MODIFIED:20220425T140215Z
UID:4558-1664092800-1664125200@triatlonconciencia.com
SUMMARY:Maratón de Berlín
DESCRIPTION:Una de las Grandes Maratones. Se caracteriza por tener el record del mundo en maratón. Una carrera practicamente plana y con una temperatura espectacular alrededor de 11 grados centígrados
URL:https://triatlonconciencia.com/calendario/maraton-de-berlin/
END:VEVENT
BEGIN:VEVENT
DTSTART;TZID=America/New_York:20220814T080000
DTEND;TZID=America/New_York:20220814T170000
DTSTAMP:20260423T222422
CREATED:20220609T155651Z
LAST-MODIFIED:20220609T155653Z
UID:4626-1660464000-1660496400@triatlonconciencia.com
SUMMARY:La ruta Colombia -Cartagena
DESCRIPTION:
URL:https://triatlonconciencia.com/calendario/la-ruta-colombia-cartagena/
END:VEVENT
BEGIN:VEVENT
DTSTART;TZID=America/New_York:20220807T080000
DTEND;TZID=America/New_York:20220807T170000
DTSTAMP:20260423T222422
CREATED:20220609T154533Z
LAST-MODIFIED:20220609T154536Z
UID:4624-1659859200-1659891600@triatlonconciencia.com
SUMMARY:70\,3 TopMan Colombia
DESCRIPTION:Primer triatlón de Media Distancia en  Tolú\, Coveñas. Un Paraiso para la practica del Triatlón.
URL:https://triatlonconciencia.com/calendario/703-topman-colombia/
CATEGORIES:Atletismo,Triatlón
END:VEVENT
BEGIN:VEVENT
DTSTART;TZID=America/New_York:20220731T080000
DTEND;TZID=America/New_York:20220731T170000
DTSTAMP:20260423T222422
CREATED:20220609T153938Z
LAST-MODIFIED:20220609T154230Z
UID:4619-1659254400-1659286800@triatlonconciencia.com
SUMMARY:Carrera de La Mujer
DESCRIPTION:Una de las carreras más importantes en Colombia para promocionar el Running en las mujeres y para promover hábitos saludables
URL:https://triatlonconciencia.com/calendario/carrera-de-la-mujer/
LOCATION:Bogotá\, Bogotá\, Colombia
CATEGORIES:Atletismo
END:VEVENT
BEGIN:VEVENT
DTSTART;VALUE=DATE:20220709
DTEND;VALUE=DATE:20220711
DTSTAMP:20260423T222422
CREATED:20220414T101555Z
LAST-MODIFIED:20220414T104001Z
UID:4540-1657324800-1657497599@triatlonconciencia.com
SUMMARY:Triatlon El peñol-Guatape / Sportravel
DESCRIPTION:Un circuito caracterizado por una natacion en la represa del Municipio del Peñol\, un ciclismo caracterizado por tener ascensos\,descensos y curvas técnicas\, el atletismo tambien puede tener algo de desnivel
URL:https://triatlonconciencia.com/calendario/triatlon-el-penol-guatape-sportravel/
LOCATION:El Peñol\, Antioquia\, El Peñol\, Colombia
END:VEVENT
BEGIN:VEVENT
DTSTART;TZID=America/New_York:20220626T080000
DTEND;TZID=America/New_York:20220626T170000
DTSTAMP:20260423T222422
CREATED:20220420T201705Z
LAST-MODIFIED:20220420T201708Z
UID:4556-1656230400-1656262800@triatlonconciencia.com
SUMMARY:Media Maraton de Cali
DESCRIPTION:Esta carrera se caracteriza por ser plana\, una temperatura entre 22 y 28 grados Centígrados y la alegría de la gente de Cli
URL:https://triatlonconciencia.com/calendario/media-maraton-de-cali/
CATEGORIES:Atletismo
END:VEVENT
END:VCALENDAR