BEGIN:VCALENDAR
VERSION:2.0
PRODID:-//Triatlón con Ciencia - ECPv6.15.10//NONSGML v1.0//EN
CALSCALE:GREGORIAN
METHOD:PUBLISH
X-WR-CALNAME:Triatlón con Ciencia
X-ORIGINAL-URL:https://triatlonconciencia.com
X-WR-CALDESC:Eventos para Triatlón con Ciencia
REFRESH-INTERVAL;VALUE=DURATION:PT1H
X-Robots-Tag:noindex
X-PUBLISHED-TTL:PT1H
BEGIN:VTIMEZONE
TZID:America/New_York
BEGIN:DAYLIGHT
TZOFFSETFROM:-0500
TZOFFSETTO:-0400
TZNAME:EDT
DTSTART:20230312T070000
END:DAYLIGHT
BEGIN:STANDARD
TZOFFSETFROM:-0400
TZOFFSETTO:-0500
TZNAME:EST
DTSTART:20231105T060000
END:STANDARD
BEGIN:DAYLIGHT
TZOFFSETFROM:-0500
TZOFFSETTO:-0400
TZNAME:EDT
DTSTART:20240310T070000
END:DAYLIGHT
BEGIN:STANDARD
TZOFFSETFROM:-0400
TZOFFSETTO:-0500
TZNAME:EST
DTSTART:20241103T060000
END:STANDARD
BEGIN:DAYLIGHT
TZOFFSETFROM:-0500
TZOFFSETTO:-0400
TZNAME:EDT
DTSTART:20250309T070000
END:DAYLIGHT
BEGIN:STANDARD
TZOFFSETFROM:-0400
TZOFFSETTO:-0500
TZNAME:EST
DTSTART:20251102T060000
END:STANDARD
END:VTIMEZONE
BEGIN:VEVENT
DTSTART;TZID=America/New_York:20241201T000000
DTEND;TZID=America/New_York:20241201T235959
DTSTAMP:20260423T183030
CREATED:20240217T015511Z
LAST-MODIFIED:20240217T015512Z
UID:5567-1733011200-1733097599@triatlonconciencia.com
SUMMARY:Ironman 70.3
DESCRIPTION:Ironman 70.3\, Media Distancia
URL:https://triatlonconciencia.com/calendario/ironman-70-3/
LOCATION:Cartagena\, Colombia
CATEGORIES:Triatlón
END:VEVENT
BEGIN:VEVENT
DTSTART;TZID=America/New_York:20241123T000000
DTEND;TZID=America/New_York:20241124T235959
DTSTAMP:20260423T183030
CREATED:20240217T015238Z
LAST-MODIFIED:20240217T015240Z
UID:5563-1732320000-1732492799@triatlonconciencia.com
SUMMARY:Triatlón de la Paz
DESCRIPTION:Copa Colombia Sprint \n\n\n\nCopa Colombia Acuatlón y Duatlón infantil y Menores
URL:https://triatlonconciencia.com/calendario/triatlon-de-la-paz/
CATEGORIES:Triatlón
END:VEVENT
BEGIN:VEVENT
DTSTART;TZID=America/New_York:20241102T000000
DTEND;TZID=America/New_York:20241103T235959
DTSTAMP:20260423T183030
CREATED:20240217T014817Z
LAST-MODIFIED:20240217T014818Z
UID:5559-1730505600-1730678399@triatlonconciencia.com
SUMMARY:Duatlón Internacional de Bogotá
DESCRIPTION:Duatlon Internacional Ciudad de Bogotá
URL:https://triatlonconciencia.com/calendario/duatlon-internacional-de-bogota/
LOCATION:Bogotá\, Colombia
CATEGORIES:Duatlón
END:VEVENT
BEGIN:VEVENT
DTSTART;TZID=America/New_York:20241102T000000
DTEND;TZID=America/New_York:20241103T235959
DTSTAMP:20260423T183030
CREATED:20240217T014321Z
LAST-MODIFIED:20240217T131908Z
UID:5555-1730505600-1730678399@triatlonconciencia.com
SUMMARY:Sumercé Challenge
DESCRIPTION:Copa Colombia Estándar\, Sprint y Categorias X EdadCopa Colombia Acuatlón y Duatlón infantil y MenoresCopa Colombia de Para triatlón
URL:https://triatlonconciencia.com/calendario/sumerce-challenge/
LOCATION:Paipa\, Boyacá\, Colombia
CATEGORIES:Acuatlon,Duatlón
END:VEVENT
BEGIN:VEVENT
DTSTART;TZID=America/New_York:20241026T000000
DTEND;TZID=America/New_York:20241027T235959
DTSTAMP:20260423T183030
CREATED:20240217T013457Z
LAST-MODIFIED:20240217T131924Z
UID:5549-1729900800-1730073599@triatlonconciencia.com
SUMMARY:Triatlón Calima - Valle Invencible
DESCRIPTION:Copa Colombia Triatlón Sprint y EstándarCopa Colombia Acuatlón y Duatlón infantil y Menores
URL:https://triatlonconciencia.com/calendario/valle-invencible/
LOCATION:Calima\, Valle del Cauca\, Colombia
CATEGORIES:Acuatlon,Duatlón,Triatlón
END:VEVENT
BEGIN:VEVENT
DTSTART;TZID=America/New_York:20241013T000000
DTEND;TZID=America/New_York:20241013T235959
DTSTAMP:20260423T183030
CREATED:20240217T125631Z
LAST-MODIFIED:20240217T125632Z
UID:5635-1728777600-1728863999@triatlonconciencia.com
SUMMARY:Maratón de Chicago
DESCRIPTION:
URL:https://triatlonconciencia.com/calendario/maraton-de-chicago/
LOCATION:Chicago\, Estados Unidos
CATEGORIES:Atletismo
END:VEVENT
BEGIN:VEVENT
DTSTART;TZID=America/New_York:20241008T000000
DTEND;TZID=America/New_York:20241009T235959
DTSTAMP:20260423T183030
CREATED:20240217T124821Z
LAST-MODIFIED:20240217T124822Z
UID:5628-1728345600-1728518399@triatlonconciencia.com
SUMMARY:Oceanman Curazao
DESCRIPTION:Desafíate en las aguas cristalinas del mar caribe
URL:https://triatlonconciencia.com/calendario/oceanman-curazao/
LOCATION:Curazao
CATEGORIES:Oceanman
END:VEVENT
BEGIN:VEVENT
DTSTART;TZID=America/New_York:20241005T000000
DTEND;TZID=America/New_York:20241006T235959
DTSTAMP:20260423T183030
CREATED:20240217T013039Z
LAST-MODIFIED:20240217T131944Z
UID:5547-1728086400-1728259199@triatlonconciencia.com
SUMMARY:Wonder Woman Tri - Reto Chicamocha
DESCRIPTION:Copa Colombia Triatlón Sprint y EstándarCopa Colombia Acuatlón y Duatlón infantil y Menores
URL:https://triatlonconciencia.com/calendario/wonder-woman-tri-reto-chicamocha/
CATEGORIES:Acuatlon,Duatlón,Triatlón
END:VEVENT
BEGIN:VEVENT
DTSTART;TZID=America/New_York:20240929T000000
DTEND;TZID=America/New_York:20240929T235959
DTSTAMP:20260423T183030
CREATED:20240217T124517Z
LAST-MODIFIED:20240217T124520Z
UID:5624-1727568000-1727654399@triatlonconciencia.com
SUMMARY:Maratón de Berlín
DESCRIPTION:Una de las Grandes Maratones. Se caracteriza por tener el récord del mundo en maratón. Una carrera prácticamente plana y con una temperatura espectacular.
URL:https://triatlonconciencia.com/calendario/maraton-de-berlin-3/
LOCATION:Berlín\, Alemania
CATEGORIES:Atletismo
END:VEVENT
BEGIN:VEVENT
DTSTART;TZID=America/New_York:20240915T000000
DTEND;TZID=America/New_York:20240915T235959
DTSTAMP:20260423T183030
CREATED:20240216T233722Z
LAST-MODIFIED:20240217T131957Z
UID:5543-1726358400-1726444799@triatlonconciencia.com
SUMMARY:Triatlón 5150
DESCRIPTION:
URL:https://triatlonconciencia.com/calendario/triatlon-5150/
LOCATION:Cartagena\, Colombia\, Cartagena\, Colombia
CATEGORIES:Triatlón
END:VEVENT
BEGIN:VEVENT
DTSTART;TZID=America/New_York:20240914T000000
DTEND;TZID=America/New_York:20240914T235959
DTSTAMP:20260423T183030
CREATED:20240216T233150Z
LAST-MODIFIED:20240217T132018Z
UID:5537-1726272000-1726358399@triatlonconciencia.com
SUMMARY:Rude
DESCRIPTION:Campeonato Nacional Interligas Sprint y Estándar de Duatlón Todas las Categorías desde infantil.
URL:https://triatlonconciencia.com/calendario/rude/
LOCATION:Tocancipá\, Cundinamarca\, Colombia
CATEGORIES:Duatlón
END:VEVENT
BEGIN:VEVENT
DTSTART;TZID=America/New_York:20240913T000000
DTEND;TZID=America/New_York:20240913T235959
DTSTAMP:20260423T183030
CREATED:20240216T233438Z
LAST-MODIFIED:20240217T132031Z
UID:5541-1726185600-1726271999@triatlonconciencia.com
SUMMARY:La Boquilla sueña
DESCRIPTION:Copa Colombia Acuatlón Sprint y Estándar La Boquilla – Todas las Categorias
URL:https://triatlonconciencia.com/calendario/la-boquilla-suena/
CATEGORIES:Acuatlon
END:VEVENT
BEGIN:VEVENT
DTSTART;TZID=America/New_York:20240901T000000
DTEND;TZID=America/New_York:20240901T235959
DTSTAMP:20260423T183030
CREATED:20240217T124154Z
LAST-MODIFIED:20240217T124155Z
UID:5618-1725148800-1725235199@triatlonconciencia.com
SUMMARY:Maratón Medellín
DESCRIPTION:Maratón Más tradicional de Colombia y Medellín
URL:https://triatlonconciencia.com/calendario/maraton-medellin-2/
LOCATION:Medellín\, Antioquia\, Colombia
CATEGORIES:Atletismo
END:VEVENT
BEGIN:VEVENT
DTSTART;TZID=America/New_York:20240831T000000
DTEND;TZID=America/New_York:20240901T235959
DTSTAMP:20260423T183030
CREATED:20240216T232744Z
LAST-MODIFIED:20240217T132049Z
UID:5533-1725062400-1725235199@triatlonconciencia.com
SUMMARY:Pre test Panamericano
DESCRIPTION:Campeonato Nacional Interligas de Triatlón Estándar y Grupos X EdadCopa Colombia Acuatlón y Duatlon infantil y MenoresCopa Colombia de Para triatlón
URL:https://triatlonconciencia.com/calendario/pre-test-panamericano/
LOCATION:Barranquila\, Atlántico\, Colombia\, Colombia\, Colombia
CATEGORIES:Acuatlon,Triatlón
END:VEVENT
BEGIN:VEVENT
DTSTART;TZID=America/New_York:20240826T000000
DTEND;TZID=America/New_York:20240827T235959
DTSTAMP:20260423T183030
CREATED:20240217T123816Z
LAST-MODIFIED:20240217T123820Z
UID:5614-1724630400-1724803199@triatlonconciencia.com
SUMMARY:Oceanman San Andrés (Aguas abiertas)
DESCRIPTION:Natación en aguas abiertas\, en el paraíso del mar de los siete colores – San Andrés
URL:https://triatlonconciencia.com/calendario/oceanman-san-andres-aguas-abiertas-2/
LOCATION:San Andrés\, Colombia
CATEGORIES:Oceanman
END:VEVENT
BEGIN:VEVENT
DTSTART;TZID=America/New_York:20240810T000000
DTEND;TZID=America/New_York:20240811T235959
DTSTAMP:20260423T183030
CREATED:20240213T161732Z
LAST-MODIFIED:20240217T132102Z
UID:5529-1723248000-1723420799@triatlonconciencia.com
SUMMARY:Triatlón de Verano
DESCRIPTION:Copa Colombia de Triatlón SprintCopa Colombia Acuatlón y Duatlón infantil y MenoresCopa Colombia de Para Triatlon
URL:https://triatlonconciencia.com/calendario/triatlon-de-verano/
LOCATION:Bogotá\, Colombia
CATEGORIES:Triatlón
END:VEVENT
BEGIN:VEVENT
DTSTART;TZID=America/New_York:20240806T000000
DTEND;TZID=America/New_York:20240807T235959
DTSTAMP:20260423T183030
CREATED:20240217T123454Z
LAST-MODIFIED:20240217T123457Z
UID:5610-1722902400-1723075199@triatlonconciencia.com
SUMMARY:70.3 Topman Tolú
DESCRIPTION:Primer triatlón de Media Distancia en Tolú\, Coveñas. Un Paraíso para la práctica del Triatlón.
URL:https://triatlonconciencia.com/calendario/70-3-topman-tolu/
LOCATION:Tolú\, Sucre
CATEGORIES:Triatlón
END:VEVENT
BEGIN:VEVENT
DTSTART;TZID=America/New_York:20240728T000000
DTEND;TZID=America/New_York:20240728T235959
DTSTAMP:20260423T183030
CREATED:20240217T022612Z
LAST-MODIFIED:20240217T022614Z
UID:5604-1722124800-1722211199@triatlonconciencia.com
SUMMARY:Media Maratón de Bogotá
DESCRIPTION:
URL:https://triatlonconciencia.com/calendario/media-maraton-de-bogota/
LOCATION:Bogotá\, Colombia
CATEGORIES:Atletismo
END:VEVENT
BEGIN:VEVENT
DTSTART;TZID=America/New_York:20240713T000000
DTEND;TZID=America/New_York:20240714T235959
DTSTAMP:20260423T183030
CREATED:20240213T160639Z
LAST-MODIFIED:20240217T132125Z
UID:5525-1720828800-1721001599@triatlonconciencia.com
SUMMARY:La Fe
DESCRIPTION:Campeonato Nacional Interligas Sprint Elite Junior\, Categorias X Edad \n\n\n\nCopa Colombia Acuatlon y Duatlon infantil y Menores
URL:https://triatlonconciencia.com/calendario/la-fe/
CATEGORIES:Acuatlon
END:VEVENT
BEGIN:VEVENT
DTSTART;TZID=America/New_York:20240706T000000
DTEND;TZID=America/New_York:20240707T235959
DTSTAMP:20260423T183030
CREATED:20240217T022215Z
LAST-MODIFIED:20240217T022216Z
UID:5598-1720224000-1720396799@triatlonconciencia.com
SUMMARY:Triatlón de El Peñol\, Guatapé
DESCRIPTION:Una carrera con una natacion en aguas abiertas en la represa\, un ciclismo caracterizado por tener ascensos\,descensos y curvas técnicas\, el atletismo tambien puede tener algo de desnivel
URL:https://triatlonconciencia.com/calendario/triatlon-de-el-penol-guatape/
LOCATION:El Peñol\, Antioquia\, Colombia
CATEGORIES:Triatlón
END:VEVENT
BEGIN:VEVENT
DTSTART;TZID=America/New_York:20240622T000000
DTEND;TZID=America/New_York:20240623T235959
DTSTAMP:20260423T183030
CREATED:20240213T155739Z
LAST-MODIFIED:20240217T132137Z
UID:5519-1719014400-1719187199@triatlonconciencia.com
SUMMARY:Nariño Challenge y Los Mortales
DESCRIPTION:
URL:https://triatlonconciencia.com/calendario/narino-challenge-y-los-mortales/
LOCATION:Girardot\, Cundinamarca
CATEGORIES:Triatlón
END:VEVENT
BEGIN:VEVENT
DTSTART;TZID=America/New_York:20240609T000000
DTEND;TZID=America/New_York:20240609T235959
DTSTAMP:20260423T183030
CREATED:20240217T021804Z
LAST-MODIFIED:20240408T170618Z
UID:5592-1717891200-1717977599@triatlonconciencia.com
SUMMARY:Media Maratón de Cali
DESCRIPTION:Esta carrera se caracteriza por ser plana\, una temperatura entre 22 y 28 grados Centígrados y la alegría de la gente de Cali.
URL:https://triatlonconciencia.com/calendario/media-maraton-de-cali-2/
LOCATION:Cali\, Colombia
CATEGORIES:Atletismo
END:VEVENT
BEGIN:VEVENT
DTSTART;TZID=America/New_York:20240524T000000
DTEND;TZID=America/New_York:20240525T235959
DTSTAMP:20260423T183030
CREATED:20240119T210313Z
LAST-MODIFIED:20240119T210317Z
UID:5511-1716508800-1716681599@triatlonconciencia.com
SUMMARY:X - Terra
DESCRIPTION:Triatlón\, Trail Running\, MTB
URL:https://triatlonconciencia.com/calendario/x-terra/
LOCATION:Paipa\, Boyacá
CATEGORIES:Triatlón
END:VEVENT
BEGIN:VEVENT
DTSTART;TZID=America/New_York:20240517T000000
DTEND;TZID=America/New_York:20240518T235959
DTSTAMP:20260423T183030
CREATED:20240119T205554Z
LAST-MODIFIED:20240119T205834Z
UID:5505-1715904000-1716076799@triatlonconciencia.com
SUMMARY:Sueño del Golfo
DESCRIPTION:Copa Colombia de triatlón sprint \n\n\n\nCopa Colombia acuatlón y duatlón infantil y menores
URL:https://triatlonconciencia.com/calendario/sueno-del-golfo/
LOCATION:Tolú\, Sucre
CATEGORIES:Triatlón
END:VEVENT
BEGIN:VEVENT
DTSTART;TZID=America/New_York:20240426T000000
DTEND;TZID=America/New_York:20240428T235959
DTSTAMP:20260423T183030
CREATED:20240217T021043Z
LAST-MODIFIED:20240408T170809Z
UID:5582-1714089600-1714348799@triatlonconciencia.com
SUMMARY:Oceanman
DESCRIPTION:
URL:https://triatlonconciencia.com/calendario/oceanman-cartagena/
LOCATION:Guatapé\, Antioquia
CATEGORIES:Oceanman
END:VEVENT
BEGIN:VEVENT
DTSTART;TZID=America/New_York:20240421T000000
DTEND;TZID=America/New_York:20240421T235959
DTSTAMP:20260423T183030
CREATED:20240119T204947Z
LAST-MODIFIED:20240119T204948Z
UID:5501-1713657600-1713743999@triatlonconciencia.com
SUMMARY:Sueño Pacífico
DESCRIPTION:Copa Colombia acuatlón y duatlón todas las categorías
URL:https://triatlonconciencia.com/calendario/sueno-pacifico/
CATEGORIES:Triatlón
END:VEVENT
BEGIN:VEVENT
DTSTART;TZID=America/New_York:20240414T000000
DTEND;TZID=America/New_York:20240415T235959
DTSTAMP:20260423T183030
CREATED:20240217T020630Z
LAST-MODIFIED:20240217T020631Z
UID:5578-1713052800-1713225599@triatlonconciencia.com
SUMMARY:Maratón de Boston
DESCRIPTION:
URL:https://triatlonconciencia.com/calendario/maraton-de-boston/
LOCATION:Boston\, Massachusetts
CATEGORIES:Atletismo
END:VEVENT
BEGIN:VEVENT
DTSTART;TZID=America/New_York:20240315T000000
DTEND;TZID=America/New_York:20240317T235959
DTSTAMP:20260423T183030
CREATED:20240119T204006Z
LAST-MODIFIED:20240217T020333Z
UID:5493-1710460800-1710719999@triatlonconciencia.com
SUMMARY:Tri Fest San Andrés
DESCRIPTION:Copa Colombia de Triatlón Sprint y Estándar \n\n\n\nCampeonato Nacional Distancia Media \n\n\n\nCopa Colombia Acuatlón y Duatlón infantil y menores \n\n\n\nCampeonato Nacional interligas de Para triatlón
URL:https://triatlonconciencia.com/calendario/morgan-challenge/
CATEGORIES:Triatlón
END:VEVENT
BEGIN:VEVENT
DTSTART;TZID=America/New_York:20240312T000000
DTEND;TZID=America/New_York:20240313T235959
DTSTAMP:20260423T183030
CREATED:20240119T204533Z
LAST-MODIFIED:20240119T205016Z
UID:5497-1710201600-1710374399@triatlonconciencia.com
SUMMARY:Barranquilla Crece
DESCRIPTION:Copa Colombia de triatlón súper sprint \n\n\n\nCopa Colombia acuatlon y duatlon infantil y menores
URL:https://triatlonconciencia.com/calendario/barranquilla-crece/
CATEGORIES:Triatlón
END:VEVENT
BEGIN:VEVENT
DTSTART;TZID=America/New_York:20240310T000000
DTEND;TZID=America/New_York:20240310T235959
DTSTAMP:20260423T183030
CREATED:20240217T130052Z
LAST-MODIFIED:20240217T130052Z
UID:5640-1710028800-1710115199@triatlonconciencia.com
SUMMARY:Maratón de Barcelona
DESCRIPTION:Una de las carreras más importantes de España
URL:https://triatlonconciencia.com/calendario/maraton-de-barcelona-2/
LOCATION:Barcelona\, España
CATEGORIES:Atletismo
END:VEVENT
END:VCALENDAR